{"text_format":"1","workbook":"xlsx","n_sheets":8,"sheets":["3.1 Input","3.1 Output","3.1 Graph","3.2 Input","3.2 Output","Summer Analysis","Winter Analysis","3.3"],"not_rendered":{"charts":6,"images":0,"macros":0,"external_links":0,"defined_names":0,"comments":0,"pivot_tables":0},"unopened":[{"sheet":"3.1 Graph","index":2,"reason":"not_a_worksheet"},{"sheet":"Summer Analysis","index":5,"reason":"not_a_worksheet"},{"sheet":"Winter Analysis","index":6,"reason":"not_a_worksheet"}],"bounds":{"document_bytes":16777216,"sheet_cells":100000,"rows_first":2000,"rows_last":500,"rows_between":2000,"halvings":0,"cell_chars":16384,"cell_head_chars":4096},"cells_cut":0,"cells_raw":0,"read":"whole","date_system":"1900"}

{"sheet":"3.1 Input","index":0,"n_rows":41,"n_cols":5,"rows_kept":41,"cut":false,"hidden":false,"merged":[]}
[]
[null,"Εφαρμογή 3.1: Σχεδιασμός συστήματος αυτόνομης οικίας"]
[]
[null,"Input"]
[]
[null,"n_stc",0.14000000000000001]
[null,"PR",0.8]
[null,"P_panel",160,"W"]
[null,"V_syst",24,"V"]
[null,"V_cel",2,"V"]
[null,"Cap_cel",1000,"A*hr"]
[null,"DoD",0.5]
[null,"G_stc",1000,"W/m^2"]
[null,"A_panel",{"$f":"C8/(C13*C6)","v":1.1428571428571428},"m^2"]
[]
[]
[null,"Περίοδος","Ώρα","Σύνολο ενεργειακών αναγκών (Wh)","Μέση ηλιακή ακτινοβολία (W *hr/m^2)"]
[null,1," 0-1",550,0]
[null,2," 1 - 2",550,0]
[null,3," 2 - 3",300,0]
[null,4," 3 - 4",300,0]
[null,5," 4 - 5",300,0]
[null,6," 5 - 6 ",300,0]
[null,7," 6 - 7",420,0]
[null,8," 7 - 8",420,10.3]
[null,9," 8 - 9",775,138.5]
[null,10," 9 - 10",500,352.9]
[null,11," 10 - 11",500,545.5]
[null,12," 11 - 12",500,690.5]
[null,13," 12 - 13",2500,782.4]
[null,14," 13 - 14",500,801.8]
[null,15," 14 - 15",500,766.3]
[null,16," 15 - 16",960,660.5]
[null,17," 16 - 17",1385,439.9]
[null,18," 17 - 18",2760,248.9]
[null,19," 18 - 19",1710,138.4]
[null,20," 19 - 20",3400,12.4]
[null,21," 20 - 21",2650,0]
[null,22," 21 - 22",1900,0]
[null,23," 22 - 23",1900,0]
[null,24," 23 - 24",1360,0]

{"sheet":"3.1 Output","index":1,"n_rows":44,"n_cols":7,"rows_kept":44,"cut":false,"hidden":false,"merged":[]}
[]
[null,"Εφαρμογή 3.1: Σχεδιασμός συστήματος αυτόνομης οικίας"]
[]
[null,"Output"]
[]
[null,"E_total",{"$f":"SUM('3.1 Input'!$D$18:$D$41)*10^-3","v":26.94},"kWh"]
[null,"E_pv",{"$f":"$C$6","v":26.94},"kWh"]
[null,"H_total",{"$f":"SUM('3.1 Input'!$E$18:$E$41)*10^-3","v":5.5882999999999985},"kWh/m^2"]
[null,"A_Array",{"$f":"$C$6/('3.1 Input'!$C$6*'3.1 Input'!$C$7*'3.1 Output'!$C$8)","v":43.042734693147167},"m^2"]
[null,"P'_array_stc",{"$f":"$C$9*'3.1 Input'!$C$13*'3.1 Input'!$C$6*10^-3","v":6.0259828570406047},"kW"]
[null,"N_array",{"$f":"ROUNDUP($C$10/('3.1 Input'!$C$8*10^-3),0)","v":38}]
[null,"P'_inst",{"$f":"$C$11*'3.1 Input'!$C$8*10^-3","v":6.08},"kW"]
[null,"E_BTCapD",{"$f":"SUM($F$21:$F$44)","v":17.168587200000001},"kWh"]
[null,"E_BTCap",{"$f":"$C$13/'3.1 Input'!$C$12","v":34.337174400000002},"kWh"]
[null,"E_Bt.min",{"$f":"'3.1 Input'!$C$9*'3.1 Input'!$C$11*10^-3","v":24},"kWh"]
[null,"N_BT",{"$f":"ROUNDUP($C$14/$C$15,0)","v":2}]
[null,"E_BT.inst",{"$f":"$C$16*$C$15","v":48},"kWh"]
[]
[]
[null,"Ώρα","Demand (kWh)","E_prod (kWh)","E_dlv (kWh)","E_xs (kWh)","E_f (kWh)"]
[null," 0-1",{"$f":"'3.1 Input'!D18*10^-3","v":0.55000000000000004},{"$f":"'3.1 Output'!$C$11*'3.1 Input'!$E18*'3.1 Input'!$C$14*'3.1 Input'!$C$7*'3.1 Input'!$C$6*10^-3","v":0},{"$f":"IF($C21<$D21,$C21,$D21)","v":0},{"$f":"$D21-$E21","v":0},{"$f":"$C21-$E21","v":0.55000000000000004}]
[null," 1 - 2",{"$f":"'3.1 Input'!D19*10^-3","v":0.55000000000000004},{"$f":"'3.1 Output'!$C$11*'3.1 Input'!$E19*'3.1 Input'!$C$14*'3.1 Input'!$C$7*'3.1 Input'!$C$6*10^-3","v":0},{"$f":"IF($C22<$D22,$C22,$D22)","v":0},{"$f":"$D22-$E22","v":0},{"$f":"$C22-$E22","v":0.55000000000000004}]
[null," 2 - 3",{"$f":"'3.1 Input'!D20*10^-3","v":0.3},{"$f":"'3.1 Output'!$C$11*'3.1 Input'!$E20*'3.1 Input'!$C$14*'3.1 Input'!$C$7*'3.1 Input'!$C$6*10^-3","v":0},0,0,0.3]
[null," 3 - 4",{"$f":"'3.1 Input'!D21*10^-3","v":0.3},{"$f":"'3.1 Output'!$C$11*'3.1 Input'!$E21*'3.1 Input'!$C$14*'3.1 Input'!$C$7*'3.1 Input'!$C$6*10^-3","v":0},0,0,0.3]
[null," 4 - 5",{"$f":"'3.1 Input'!D22*10^-3","v":0.3},{"$f":"'3.1 Output'!$C$11*'3.1 Input'!$E22*'3.1 Input'!$C$14*'3.1 Input'!$C$7*'3.1 Input'!$C$6*10^-3","v":0},0,0,0.3]
[null," 5 - 6 ",{"$f":"'3.1 Input'!D23*10^-3","v":0.3},{"$f":"'3.1 Output'!$C$11*'3.1 Input'!$E23*'3.1 Input'!$C$14*'3.1 Input'!$C$7*'3.1 Input'!$C$6*10^-3","v":0},0,0,0.3]
[null," 6 - 7",{"$f":"'3.1 Input'!D24*10^-3","v":0.42},{"$f":"'3.1 Output'!$C$11*'3.1 Input'!$E24*'3.1 Input'!$C$14*'3.1 Input'!$C$7*'3.1 Input'!$C$6*10^-3","v":0},0,0,0.42]
[null," 7 - 8",{"$f":"'3.1 Input'!D25*10^-3","v":0.42},{"$f":"'3.1 Output'!$C$11*'3.1 Input'!$E25*'3.1 Input'!$C$14*'3.1 Input'!$C$7*'3.1 Input'!$C$6*10^-3","v":5.0099200000000017E-2},{"$f":"IF($C28<$D28,$C28,$D28)","v":5.0099200000000017E-2},0,0.36990079999999997]
[null," 8 - 9",{"$f":"'3.1 Input'!D26*10^-3","v":0.77500000000000002},{"$f":"'3.1 Output'!$C$11*'3.1 Input'!$E26*'3.1 Input'!$C$14*'3.1 Input'!$C$7*'3.1 Input'!$C$6*10^-3","v":0.67366400000000004},0.67366400000000004,0,0.10133599999999998]
[null," 9 - 10",{"$f":"'3.1 Input'!D27*10^-3","v":0.5},{"$f":"'3.1 Output'!$C$11*'3.1 Input'!$E27*'3.1 Input'!$C$14*'3.1 Input'!$C$7*'3.1 Input'!$C$6*10^-3","v":1.7165056000000001},0.5,1.2165056000000001,0]
[null," 10 - 11",{"$f":"'3.1 Input'!D28*10^-3","v":0.5},{"$f":"'3.1 Output'!$C$11*'3.1 Input'!$E28*'3.1 Input'!$C$14*'3.1 Input'!$C$7*'3.1 Input'!$C$6*10^-3","v":2.6533120000000006},0.5,2.1533120000000006,0]
[null," 11 - 12",{"$f":"'3.1 Input'!D29*10^-3","v":0.5},{"$f":"'3.1 Output'!$C$11*'3.1 Input'!$E29*'3.1 Input'!$C$14*'3.1 Input'!$C$7*'3.1 Input'!$C$6*10^-3","v":3.3585920000000007},0.5,2.8585920000000007,0]
[null," 12 - 13",{"$f":"'3.1 Input'!D30*10^-3","v":2.5},{"$f":"'3.1 Output'!$C$11*'3.1 Input'!$E30*'3.1 Input'!$C$14*'3.1 Input'!$C$7*'3.1 Input'!$C$6*10^-3","v":3.8055936000000008},2.5,{"$f":"$D33-$E33","v":1.3055936000000008},0]
[null," 13 - 14",{"$f":"'3.1 Input'!D31*10^-3","v":0.5},{"$f":"'3.1 Output'!$C$11*'3.1 Input'!$E31*'3.1 Input'!$C$14*'3.1 Input'!$C$7*'3.1 Input'!$C$6*10^-3","v":3.8999551999999995},0.5,3.3999551999999995,0]
[null," 14 - 15",{"$f":"'3.1 Input'!D32*10^-3","v":0.5},{"$f":"'3.1 Output'!$C$11*'3.1 Input'!$E32*'3.1 Input'!$C$14*'3.1 Input'!$C$7*'3.1 Input'!$C$6*10^-3","v":3.7272832},0.5,3.2272832,0]
[null," 15 - 16",{"$f":"'3.1 Input'!D33*10^-3","v":0.96},{"$f":"'3.1 Output'!$C$11*'3.1 Input'!$E33*'3.1 Input'!$C$14*'3.1 Input'!$C$7*'3.1 Input'!$C$6*10^-3","v":3.2126720000000004},0.96,2.2526720000000005,0]
[null," 16 - 17",{"$f":"'3.1 Input'!D34*10^-3","v":1.385},{"$f":"'3.1 Output'!$C$11*'3.1 Input'!$E34*'3.1 Input'!$C$14*'3.1 Input'!$C$7*'3.1 Input'!$C$6*10^-3","v":2.1396736000000005},1.385,0.7546736000000005,0]
[null," 17 - 18",{"$f":"'3.1 Input'!D35*10^-3","v":2.7600000000000002},{"$f":"'3.1 Output'!$C$11*'3.1 Input'!$E35*'3.1 Input'!$C$14*'3.1 Input'!$C$7*'3.1 Input'!$C$6*10^-3","v":1.2106496},1.2106496,0,{"$f":"$C38-$E38","v":1.5493504000000002}]
[null," 18 - 19",{"$f":"'3.1 Input'!D36*10^-3","v":1.71},{"$f":"'3.1 Output'!$C$11*'3.1 Input'!$E36*'3.1 Input'!$C$14*'3.1 Input'!$C$7*'3.1 Input'!$C$6*10^-3","v":0.67317760000000015},0.67317760000000015,0,1.0368223999999997]
[null," 19 - 20",{"$f":"'3.1 Input'!D37*10^-3","v":3.4},{"$f":"'3.1 Output'!$C$11*'3.1 Input'!$E37*'3.1 Input'!$C$14*'3.1 Input'!$C$7*'3.1 Input'!$C$6*10^-3","v":6.0313599999999995E-2},6.0313599999999995E-2,0,3.3396863999999997]
[null," 20 - 21",{"$f":"'3.1 Input'!D38*10^-3","v":2.65},{"$f":"'3.1 Output'!$C$11*'3.1 Input'!$E38*'3.1 Input'!$C$14*'3.1 Input'!$C$7*'3.1 Input'!$C$6*10^-3","v":0},0,0,2.65]
[null," 21 - 22",{"$f":"'3.1 Input'!D39*10^-3","v":1.9000000000000001},{"$f":"'3.1 Output'!$C$11*'3.1 Input'!$E39*'3.1 Input'!$C$14*'3.1 Input'!$C$7*'3.1 Input'!$C$6*10^-3","v":0},0,0,1.9000000000000001]
[null," 22 - 23",{"$f":"'3.1 Input'!D40*10^-3","v":1.9000000000000001},{"$f":"'3.1 Output'!$C$11*'3.1 Input'!$E40*'3.1 Input'!$C$14*'3.1 Input'!$C$7*'3.1 Input'!$C$6*10^-3","v":0},0,0,1.9000000000000001]
[null," 23 - 24",{"$f":"'3.1 Input'!D41*10^-3","v":1.36},{"$f":"'3.1 Output'!$C$11*'3.1 Input'!$E41*'3.1 Input'!$C$14*'3.1 Input'!$C$7*'3.1 Input'!$C$6*10^-3","v":0},0,0,1.36]

{"sheet":"3.2 Input","index":3,"n_rows":40,"n_cols":7,"rows_kept":40,"cut":false,"hidden":false,"merged":[]}
[]
[null,"Εφαρμογή 3.2: Ανάλυση συστήματος αυτόνομης οικίας για θερινή και χειμερινή ημέρα"]
[]
[null,"Input"]
[]
[null,"PR_Sum",0.78]
[null,"PR_Win",0.82]
[null,"SOC_0",0.55000000000000004]
[null,"n_stc",0.14000000000000001]
[null,"E_Btinst",48,"kWh"]
[null,"DoD",0.5]
[null,"A_panel",1.143,"m^2"]
[null,"N_array",38]
[]
[]
[null,"Περίοδος","Ώρα","Κατανάλωση Καλοκαιρινής Ημέρας (Wh)","Κατανάλωση Χειμερινής Ημέρας (Wh)","Ηλιακή Ακτινοβολία Καλοκαιρνής Ημέρας (Wh/m^2)","Ηλιακή Ακτινοβολία Χειμερινής Ημέρας (Wh/m^2)"]
[null,1," 0-1",600,500,0,0]
[null,2," 1 - 2",600,500,0,0]
[null,3," 2 - 3",600,250,0,0]
[null,4," 3 - 4",350,250,0,0]
[null,5," 4 - 5",350,250,0,0]
[null,6," 5 - 6 ",350,250,1.5,0]
[null,7," 6 - 7",350,370,93.5,0]
[null,8," 7 - 8",470,370,299,17.899999999999999]
[null,9," 8 - 9",575,725,515.5,155.9]
[null,10," 9 - 10",550,450,700.1,319.60000000000002]
[null,11," 10 - 11",550,450,843.8,453]
[null,12," 11 - 12",1675,450,932,536.1]
[null,13," 12 - 13",3675,2450,936.4,566.70000000000005]
[null,14," 13 - 14",2800,450,889.4,523.70000000000005]
[null,15," 14 - 15",2800,450,781.6,462.9]
[null,16," 15 - 16",3010,910,616.29999999999995,306.8]
[null,17," 16 - 17",3685,1335,419.6,129.9]
[null,18," 17 - 18",5060,2710,214.4,13.5]
[null,19," 18 - 19",4010,2600,39.5,0]
[null,20," 19 - 20",4760,3350,0,0]
[null,21," 20 - 21",3285,2600,0,0]
[null,22," 21 - 22",1950,1850,0,0]
[null,23," 22 - 23",1950,1850,0,0]
[null,24," 23 - 24",2535,1310,0,0]

{"sheet":"3.2 Output","index":4,"n_rows":90,"n_cols":11,"rows_kept":90,"cut":false,"hidden":false,"merged":[]}
[]
[null,"Εφαρμογή 3.2: Ανάλυση συστήματος αυτόνομης οικίας για θερινή και χειμερινή ημέρα"]
[]
[null,"Output"]
[]
[null,"SOC_max",1]
[null,"SOC_min",{"$f":"'3.2 Input'!$C$11","v":0.5}]
[null,"E_BT.max",{"$f":"($C$6-$C$7)*'3.2 Input'!$C$10","v":24},"kWh"]
[null,"E_BT.min",{"$f":"($C$7-'3.2 Input'!$C$11)*'3.2 Input'!$C$10","v":0},"kWh"]
[]
[]
[null,"Περίοδος","Ώρα","E_prod.summer (kWh)","E_prod.winter (kWh)","E_dlv.summer (kWh)","E_dlv.winter (kWh)","E_xs.summer (kWh)","E_xs.winter (kWh)","E_f.summer (kWh)","E_f.winter (kWh)"]
[null,1," 0-1",{"$f":"'3.2 Input'!$C$12*'3.2 Input'!$C$13*'3.2 Input'!$C$9*'3.2 Input'!$C$6*'3.2 Input'!$F17*10^-3","v":0},{"$f":"'3.2 Input'!$C$12*'3.2 Input'!$C$13*'3.2 Input'!$C$9*'3.2 Input'!$C$7*'3.2 Input'!$G17*10^-3","v":0},{"$f":"IF('3.2 Input'!$D17*10^-3<'3.2 Output'!$D13,'3.2 Input'!$D17*10^-3,'3.2 Output'!$D13)","v":0},{"$f":"IF('3.2 Input'!$E17*10^-3<'3.2 Output'!$E13,'3.2 Input'!$E17*10^-3,'3.2 Output'!$E13)","v":0},{"$f":"$D13-$F13","v":0},{"$f":"$E13-$G13","v":0},{"$f":"'3.2 Input'!$D17*10^-3-'3.2 Output'!$F13","v":0.6},{"$f":"'3.2 Input'!$E17*10^-3-'3.2 Output'!$G13","v":0.5}]
[null,2," 1 - 2",{"$f":"'3.2 Input'!$C$12*'3.2 Input'!$C$13*'3.2 Input'!$C$9*'3.2 Input'!$C$6*'3.2 Input'!$F18*10^-3","v":0},{"$f":"'3.2 Input'!$C$12*'3.2 Input'!$C$13*'3.2 Input'!$C$9*'3.2 Input'!$C$7*'3.2 Input'!$G18*10^-3","v":0},{"$f":"IF('3.2 Input'!$D18*10^-3<'3.2 Output'!$D14,'3.2 Input'!$D18*10^-3,'3.2 Output'!$D14)","v":0},{"$f":"IF('3.2 Input'!$E18*10^-3<'3.2 Output'!$E14,'3.2 Input'!$E18*10^-3,'3.2 Output'!$E14)","v":0},0,0,{"$f":"'3.2 Input'!$D18*10^-3-'3.2 Output'!$F14","v":0.6},{"$f":"'3.2 Input'!$E18*10^-3-'3.2 Output'!$G14","v":0.5}]
[null,3," 2 - 3",{"$f":"'3.2 Input'!$C$12*'3.2 Input'!$C$13*'3.2 Input'!$C$9*'3.2 Input'!$C$6*'3.2 Input'!$F19*10^-3","v":0},{"$f":"'3.2 Input'!$C$12*'3.2 Input'!$C$13*'3.2 Input'!$C$9*'3.2 Input'!$C$7*'3.2 Input'!$G19*10^-3","v":0},{"$f":"IF('3.2 Input'!$D19*10^-3<'3.2 Output'!$D15,'3.2 Input'!$D19*10^-3,'3.2 Output'!$D15)","v":0},{"$f":"IF('3.2 Input'!$E19*10^-3<'3.2 Output'!$E15,'3.2 Input'!$E19*10^-3,'3.2 Output'!$E15)","v":0},0,0,{"$f":"'3.2 Input'!$D19*10^-3-'3.2 Output'!$F15","v":0.6},{"$f":"'3.2 Input'!$E19*10^-3-'3.2 Output'!$G15","v":0.25}]
[null,4," 3 - 4",{"$f":"'3.2 Input'!$C$12*'3.2 Input'!$C$13*'3.2 Input'!$C$9*'3.2 Input'!$C$6*'3.2 Input'!$F20*10^-3","v":0},{"$f":"'3.2 Input'!$C$12*'3.2 Input'!$C$13*'3.2 Input'!$C$9*'3.2 Input'!$C$7*'3.2 Input'!$G20*10^-3","v":0},{"$f":"IF('3.2 Input'!$D20*10^-3<'3.2 Output'!$D16,'3.2 Input'!$D20*10^-3,'3.2 Output'!$D16)","v":0},{"$f":"IF('3.2 Input'!$E20*10^-3<'3.2 Output'!$E16,'3.2 Input'!$E20*10^-3,'3.2 Output'!$E16)","v":0},0,0,{"$f":"'3.2 Input'!$D20*10^-3-'3.2 Output'!$F16","v":0.35000000000000003},{"$f":"'3.2 Input'!$E20*10^-3-'3.2 Output'!$G16","v":0.25}]
[null,5," 4 - 5",{"$f":"'3.2 Input'!$C$12*'3.2 Input'!$C$13*'3.2 Input'!$C$9*'3.2 Input'!$C$6*'3.2 Input'!$F21*10^-3","v":0},{"$f":"'3.2 Input'!$C$12*'3.2 Input'!$C$13*'3.2 Input'!$C$9*'3.2 Input'!$C$7*'3.2 Input'!$G21*10^-3","v":0},{"$f":"IF('3.2 Input'!$D21*10^-3<'3.2 Output'!$D17,'3.2 Input'!$D21*10^-3,'3.2 Output'!$D17)","v":0},{"$f":"IF('3.2 Input'!$E21*10^-3<'3.2 Output'!$E17,'3.2 Input'!$E21*10^-3,'3.2 Output'!$E17)","v":0},0,0,{"$f":"'3.2 Input'!$D21*10^-3-'3.2 Output'!$F17","v":0.35000000000000003},{"$f":"'3.2 Input'!$E21*10^-3-'3.2 Output'!$G17","v":0.25}]
[null,6," 5 - 6 ",{"$f":"'3.2 Input'!$C$12*'3.2 Input'!$C$13*'3.2 Input'!$C$9*'3.2 Input'!$C$6*'3.2 Input'!$F22*10^-3","v":7.1144892000000017E-3},{"$f":"'3.2 Input'!$C$12*'3.2 Input'!$C$13*'3.2 Input'!$C$9*'3.2 Input'!$C$7*'3.2 Input'!$G22*10^-3","v":0},{"$f":"IF('3.2 Input'!$D22*10^-3<'3.2 Output'!$D18,'3.2 Input'!$D22*10^-3,'3.2 Output'!$D18)","v":7.1144892000000017E-3},{"$f":"IF('3.2 Input'!$E22*10^-3<'3.2 Output'!$E18,'3.2 Input'!$E22*10^-3,'3.2 Output'!$E18)","v":0},0,0,{"$f":"'3.2 Input'!$D22*10^-3-'3.2 Output'!$F18","v":0.34288551080000002},{"$f":"'3.2 Input'!$E22*10^-3-'3.2 Output'!$G18","v":0.25}]
[null,7," 6 - 7",{"$f":"'3.2 Input'!$C$12*'3.2 Input'!$C$13*'3.2 Input'!$C$9*'3.2 Input'!$C$6*'3.2 Input'!$F23*10^-3","v":0.44346982680000008},{"$f":"'3.2 Input'!$C$12*'3.2 Input'!$C$13*'3.2 Input'!$C$9*'3.2 Input'!$C$7*'3.2 Input'!$G23*10^-3","v":0},{"$f":"IF('3.2 Input'!$D23*10^-3<'3.2 Output'!$D19,'3.2 Input'!$D23*10^-3,'3.2 Output'!$D19)","v":0.35000000000000003},{"$f":"IF('3.2 Input'!$E23*10^-3<'3.2 Output'!$E19,'3.2 Input'!$E23*10^-3,'3.2 Output'!$E19)","v":0},9.3469826800000044E-2,0,{"$f":"'3.2 Input'!$D23*10^-3-'3.2 Output'!$F19","v":0},{"$f":"'3.2 Input'!$E23*10^-3-'3.2 Output'!$G19","v":0.37}]
[null,8," 7 - 8",{"$f":"'3.2 Input'!$C$12*'3.2 Input'!$C$13*'3.2 Input'!$C$9*'3.2 Input'!$C$6*'3.2 Input'!$F24*10^-3","v":1.4181548472000003},{"$f":"'3.2 Input'!$C$12*'3.2 Input'!$C$13*'3.2 Input'!$C$9*'3.2 Input'!$C$7*'3.2 Input'!$G24*10^-3","v":8.9253395280000009E-2},{"$f":"IF('3.2 Input'!$D24*10^-3<'3.2 Output'!$D20,'3.2 Input'!$D24*10^-3,'3.2 Output'!$D20)","v":0.47000000000000003},{"$f":"IF('3.2 Input'!$E24*10^-3<'3.2 Output'!$E20,'3.2 Input'!$E24*10^-3,'3.2 Output'!$E20)","v":8.9253395280000009E-2},0.94815484720000032,0,{"$f":"'3.2 Input'!$D24*10^-3-'3.2 Output'!$F20","v":0},{"$f":"'3.2 Input'!$E24*10^-3-'3.2 Output'!$G20","v":0.28074660472000001}]
[null,9," 8 - 9",{"$f":"'3.2 Input'!$C$12*'3.2 Input'!$C$13*'3.2 Input'!$C$9*'3.2 Input'!$C$6*'3.2 Input'!$F25*10^-3","v":2.4450127884000006},{"$f":"'3.2 Input'!$C$12*'3.2 Input'!$C$13*'3.2 Input'!$C$9*'3.2 Input'!$C$7*'3.2 Input'!$G25*10^-3","v":0.77735219688000012},{"$f":"IF('3.2 Input'!$D25*10^-3<'3.2 Output'!$D21,'3.2 Input'!$D25*10^-3,'3.2 Output'!$D21)","v":0.57500000000000007},{"$f":"IF('3.2 Input'!$E25*10^-3<'3.2 Output'!$E21,'3.2 Input'!$E25*10^-3,'3.2 Output'!$E21)","v":0.72499999999999998},1.8700127884000004,5.2352196880000146E-2,{"$f":"'3.2 Input'!$D25*10^-3-'3.2 Output'!$F21","v":0},{"$f":"'3.2 Input'!$E25*10^-3-'3.2 Output'!$G21","v":0}]
[null,10," 9 - 10",{"$f":"'3.2 Input'!$C$12*'3.2 Input'!$C$13*'3.2 Input'!$C$9*'3.2 Input'!$C$6*'3.2 Input'!$F26*10^-3","v":3.3205692592800005},{"$f":"'3.2 Input'!$C$12*'3.2 Input'!$C$13*'3.2 Input'!$C$9*'3.2 Input'!$C$7*'3.2 Input'!$G26*10^-3","v":1.5935969347200003},{"$f":"IF('3.2 Input'!$D26*10^-3<'3.2 Output'!$D22,'3.2 Input'!$D26*10^-3,'3.2 Output'!$D22)","v":0.55000000000000004},{"$f":"IF('3.2 Input'!$E26*10^-3<'3.2 Output'!$E22,'3.2 Input'!$E26*10^-3,'3.2 Output'!$E22)","v":0.45},2.7705692592800002,1.1435969347200003,{"$f":"'3.2 Input'!$D26*10^-3-'3.2 Output'!$F22","v":0},{"$f":"'3.2 Input'!$E26*10^-3-'3.2 Output'!$G22","v":0}]
[null,11," 10 - 11",{"$f":"'3.2 Input'!$C$12*'3.2 Input'!$C$13*'3.2 Input'!$C$9*'3.2 Input'!$C$6*'3.2 Input'!$F27*10^-3","v":4.0021373246400005},{"$f":"'3.2 Input'!$C$12*'3.2 Input'!$C$13*'3.2 Input'!$C$9*'3.2 Input'!$C$7*'3.2 Input'!$G27*10^-3","v":2.2587591096000001},{"$f":"IF('3.2 Input'!$D27*10^-3<'3.2 Output'!$D23,'3.2 Input'!$D27*10^-3,'3.2 Output'!$D23)","v":0.55000000000000004},{"$f":"IF('3.2 Input'!$E27*10^-3<'3.2 Output'!$E23,'3.2 Input'!$E27*10^-3,'3.2 Output'!$E23)","v":0.45},3.4521373246400007,1.8087591096000002,{"$f":"'3.2 Input'!$D27*10^-3-'3.2 Output'!$F23","v":0},{"$f":"'3.2 Input'!$E27*10^-3-'3.2 Output'!$G23","v":0}]
[null,12," 11 - 12",{"$f":"'3.2 Input'!$C$12*'3.2 Input'!$C$13*'3.2 Input'!$C$9*'3.2 Input'!$C$6*'3.2 Input'!$F28*10^-3","v":4.4204692896000006},{"$f":"'3.2 Input'!$C$12*'3.2 Input'!$C$13*'3.2 Input'!$C$9*'3.2 Input'!$C$7*'3.2 Input'!$G28*10^-3","v":2.67311425752},{"$f":"IF('3.2 Input'!$D28*10^-3<'3.2 Output'!$D24,'3.2 Input'!$D28*10^-3,'3.2 Output'!$D24)","v":1.675},{"$f":"IF('3.2 Input'!$E28*10^-3<'3.2 Output'!$E24,'3.2 Input'!$E28*10^-3,'3.2 Output'!$E24)","v":0.45},2.7454692896000008,2.2231142575199998,{"$f":"'3.2 Input'!$D28*10^-3-'3.2 Output'!$F24","v":0},{"$f":"'3.2 Input'!$E28*10^-3-'3.2 Output'!$G24","v":0}]
[null,13," 12 - 13",{"$f":"'3.2 Input'!$C$12*'3.2 Input'!$C$13*'3.2 Input'!$C$9*'3.2 Input'!$C$6*'3.2 Input'!$F29*10^-3","v":4.4413384579200006},{"$f":"'3.2 Input'!$C$12*'3.2 Input'!$C$13*'3.2 Input'!$C$9*'3.2 Input'!$C$7*'3.2 Input'!$G29*10^-3","v":2.8256926874400006},{"$f":"IF('3.2 Input'!$D29*10^-3<'3.2 Output'!$D25,'3.2 Input'!$D29*10^-3,'3.2 Output'!$D25)","v":3.6750000000000003},{"$f":"IF('3.2 Input'!$E29*10^-3<'3.2 Output'!$E25,'3.2 Input'!$E29*10^-3,'3.2 Output'!$E25)","v":2.4500000000000002},0.76633845792000033,0.37569268744000039,{"$f":"'3.2 Input'!$D29*10^-3-'3.2 Output'!$F25","v":0},{"$f":"'3.2 Input'!$E29*10^-3-'3.2 Output'!$G25","v":0}]
[null,14," 13 - 14",{"$f":"'3.2 Input'!$C$12*'3.2 Input'!$C$13*'3.2 Input'!$C$9*'3.2 Input'!$C$6*'3.2 Input'!$F30*10^-3","v":4.2184177963199998},{"$f":"'3.2 Input'!$C$12*'3.2 Input'!$C$13*'3.2 Input'!$C$9*'3.2 Input'!$C$7*'3.2 Input'!$G30*10^-3","v":2.6112850898400009},{"$f":"IF('3.2 Input'!$D30*10^-3<'3.2 Output'!$D26,'3.2 Input'!$D30*10^-3,'3.2 Output'!$D26)","v":2.8000000000000003},{"$f":"IF('3.2 Input'!$E30*10^-3<'3.2 Output'!$E26,'3.2 Input'!$E30*10^-3,'3.2 Output'!$E26)","v":0.45},1.4184177963199995,2.1612850898400007,{"$f":"'3.2 Input'!$D30*10^-3-'3.2 Output'!$F26","v":0},{"$f":"'3.2 Input'!$E30*10^-3-'3.2 Output'!$G26","v":0}]
[null,15," 14 - 15",{"$f":"'3.2 Input'!$C$12*'3.2 Input'!$C$13*'3.2 Input'!$C$9*'3.2 Input'!$C$6*'3.2 Input'!$F31*10^-3","v":3.7071231724800007},{"$f":"'3.2 Input'!$C$12*'3.2 Input'!$C$13*'3.2 Input'!$C$9*'3.2 Input'!$C$7*'3.2 Input'!$G31*10^-3","v":2.30812271928},{"$f":"IF('3.2 Input'!$D31*10^-3<'3.2 Output'!$D27,'3.2 Input'!$D31*10^-3,'3.2 Output'!$D27)","v":2.8000000000000003},{"$f":"IF('3.2 Input'!$E31*10^-3<'3.2 Output'!$E27,'3.2 Input'!$E31*10^-3,'3.2 Output'!$E27)","v":0.45},0.90712317248000041,1.8581227192800001,{"$f":"'3.2 Input'!$D31*10^-3-'3.2 Output'!$F27","v":0},{"$f":"'3.2 Input'!$E31*10^-3-'3.2 Output'!$G27","v":0}]
[null,16," 15 - 16",{"$f":"'3.2 Input'!$C$12*'3.2 Input'!$C$13*'3.2 Input'!$C$9*'3.2 Input'!$C$6*'3.2 Input'!$F32*10^-3","v":2.9231064626400003},{"$f":"'3.2 Input'!$C$12*'3.2 Input'!$C$13*'3.2 Input'!$C$9*'3.2 Input'!$C$7*'3.2 Input'!$G32*10^-3","v":1.5297732777600002},{"$f":"IF('3.2 Input'!$D32*10^-3<'3.2 Output'!$D28,'3.2 Input'!$D32*10^-3,'3.2 Output'!$D28)","v":2.9231064626400003},{"$f":"IF('3.2 Input'!$E32*10^-3<'3.2 Output'!$E28,'3.2 Input'!$E32*10^-3,'3.2 Output'!$E28)","v":0.91},0,0.61977327776000013,{"$f":"'3.2 Input'!$D32*10^-3-'3.2 Output'!$F28","v":8.6893537359999939E-2},{"$f":"'3.2 Input'!$E32*10^-3-'3.2 Output'!$G28","v":0}]
[null,17," 16 - 17",{"$f":"'3.2 Input'!$C$12*'3.2 Input'!$C$13*'3.2 Input'!$C$9*'3.2 Input'!$C$6*'3.2 Input'!$F33*10^-3","v":1.9901597788800005},{"$f":"'3.2 Input'!$C$12*'3.2 Input'!$C$13*'3.2 Input'!$C$9*'3.2 Input'!$C$7*'3.2 Input'!$G33*10^-3","v":0.64771039368000005},{"$f":"IF('3.2 Input'!$D33*10^-3<'3.2 Output'!$D29,'3.2 Input'!$D33*10^-3,'3.2 Output'!$D29)","v":1.9901597788800005},{"$f":"IF('3.2 Input'!$E33*10^-3<'3.2 Output'!$E29,'3.2 Input'!$E33*10^-3,'3.2 Output'!$E29)","v":0.64771039368000005},0,0,{"$f":"'3.2 Input'!$D33*10^-3-'3.2 Output'!$F29","v":1.6948402211199995},{"$f":"'3.2 Input'!$E33*10^-3-'3.2 Output'!$G29","v":0.68728960631999991}]
[null,18," 17 - 18",{"$f":"'3.2 Input'!$C$12*'3.2 Input'!$C$13*'3.2 Input'!$C$9*'3.2 Input'!$C$6*'3.2 Input'!$F34*10^-3","v":1.0168976563200001},{"$f":"'3.2 Input'!$C$12*'3.2 Input'!$C$13*'3.2 Input'!$C$9*'3.2 Input'!$C$7*'3.2 Input'!$G34*10^-3","v":6.7314013200000009E-2},{"$f":"IF('3.2 Input'!$D34*10^-3<'3.2 Output'!$D30,'3.2 Input'!$D34*10^-3,'3.2 Output'!$D30)","v":1.0168976563200001},{"$f":"IF('3.2 Input'!$E34*10^-3<'3.2 Output'!$E30,'3.2 Input'!$E34*10^-3,'3.2 Output'!$E30)","v":6.7314013200000009E-2},0,0,{"$f":"'3.2 Input'!$D34*10^-3-'3.2 Output'!$F30","v":4.0431023436800002},{"$f":"'3.2 Input'!$E34*10^-3-'3.2 Output'!$G30","v":2.6426859868000001}]
[null,19," 18 - 19",{"$f":"'3.2 Input'!$C$12*'3.2 Input'!$C$13*'3.2 Input'!$C$9*'3.2 Input'!$C$6*'3.2 Input'!$F35*10^-3","v":0.18734821560000003},{"$f":"'3.2 Input'!$C$12*'3.2 Input'!$C$13*'3.2 Input'!$C$9*'3.2 Input'!$C$7*'3.2 Input'!$G35*10^-3","v":0},{"$f":"IF('3.2 Input'!$D35*10^-3<'3.2 Output'!$D31,'3.2 Input'!$D35*10^-3,'3.2 Output'!$D31)","v":0.18734821560000003},{"$f":"IF('3.2 Input'!$E35*10^-3<'3.2 Output'!$E31,'3.2 Input'!$E35*10^-3,'3.2 Output'!$E31)","v":0},0,0,{"$f":"'3.2 Input'!$D35*10^-3-'3.2 Output'!$F31","v":3.8226517843999996},{"$f":"'3.2 Input'!$E35*10^-3-'3.2 Output'!$G31","v":2.6}]
[null,20," 19 - 20",{"$f":"'3.2 Input'!$C$12*'3.2 Input'!$C$13*'3.2 Input'!$C$9*'3.2 Input'!$C$6*'3.2 Input'!$F36*10^-3","v":0},{"$f":"'3.2 Input'!$C$12*'3.2 Input'!$C$13*'3.2 Input'!$C$9*'3.2 Input'!$C$7*'3.2 Input'!$G36*10^-3","v":0},{"$f":"IF('3.2 Input'!$D36*10^-3<'3.2 Output'!$D32,'3.2 Input'!$D36*10^-3,'3.2 Output'!$D32)","v":0},{"$f":"IF('3.2 Input'!$E36*10^-3<'3.2 Output'!$E32,'3.2 Input'!$E36*10^-3,'3.2 Output'!$E32)","v":0},0,0,{"$f":"'3.2 Input'!$D36*10^-3-'3.2 Output'!$F32","v":4.76},{"$f":"'3.2 Input'!$E36*10^-3-'3.2 Output'!$G32","v":3.35}]
[null,21," 20 - 21",{"$f":"'3.2 Input'!$C$12*'3.2 Input'!$C$13*'3.2 Input'!$C$9*'3.2 Input'!$C$6*'3.2 Input'!$F37*10^-3","v":0},{"$f":"'3.2 Input'!$C$12*'3.2 Input'!$C$13*'3.2 Input'!$C$9*'3.2 Input'!$C$7*'3.2 Input'!$G37*10^-3","v":0},{"$f":"IF('3.2 Input'!$D37*10^-3<'3.2 Output'!$D33,'3.2 Input'!$D37*10^-3,'3.2 Output'!$D33)","v":0},{"$f":"IF('3.2 Input'!$E37*10^-3<'3.2 Output'!$E33,'3.2 Input'!$E37*10^-3,'3.2 Output'!$E33)","v":0},0,0,{"$f":"'3.2 Input'!$D37*10^-3-'3.2 Output'!$F33","v":3.2850000000000001},{"$f":"'3.2 Input'!$E37*10^-3-'3.2 Output'!$G33","v":2.6}]
[null,22," 21 - 22",{"$f":"'3.2 Input'!$C$12*'3.2 Input'!$C$13*'3.2 Input'!$C$9*'3.2 Input'!$C$6*'3.2 Input'!$F38*10^-3","v":0},{"$f":"'3.2 Input'!$C$12*'3.2 Input'!$C$13*'3.2 Input'!$C$9*'3.2 Input'!$C$7*'3.2 Input'!$G38*10^-3","v":0},{"$f":"IF('3.2 Input'!$D38*10^-3<'3.2 Output'!$D34,'3.2 Input'!$D38*10^-3,'3.2 Output'!$D34)","v":0},{"$f":"IF('3.2 Input'!$E38*10^-3<'3.2 Output'!$E34,'3.2 Input'!$E38*10^-3,'3.2 Output'!$E34)","v":0},0,0,{"$f":"'3.2 Input'!$D38*10^-3-'3.2 Output'!$F34","v":1.95},{"$f":"'3.2 Input'!$E38*10^-3-'3.2 Output'!$G34","v":1.85}]
[null,23," 22 - 23",{"$f":"'3.2 Input'!$C$12*'3.2 Input'!$C$13*'3.2 Input'!$C$9*'3.2 Input'!$C$6*'3.2 Input'!$F39*10^-3","v":0},{"$f":"'3.2 Input'!$C$12*'3.2 Input'!$C$13*'3.2 Input'!$C$9*'3.2 Input'!$C$7*'3.2 Input'!$G39*10^-3","v":0},{"$f":"IF('3.2 Input'!$D39*10^-3<'3.2 Output'!$D35,'3.2 Input'!$D39*10^-3,'3.2 Output'!$D35)","v":0},{"$f":"IF('3.2 Input'!$E39*10^-3<'3.2 Output'!$E35,'3.2 Input'!$E39*10^-3,'3.2 Output'!$E35)","v":0},0,0,{"$f":"'3.2 Input'!$D39*10^-3-'3.2 Output'!$F35","v":1.95},{"$f":"'3.2 Input'!$E39*10^-3-'3.2 Output'!$G35","v":1.85}]
[null,24," 23 - 24",{"$f":"'3.2 Input'!$C$12*'3.2 Input'!$C$13*'3.2 Input'!$C$9*'3.2 Input'!$C$6*'3.2 Input'!$F40*10^-3","v":0},{"$f":"'3.2 Input'!$C$12*'3.2 Input'!$C$13*'3.2 Input'!$C$9*'3.2 Input'!$C$7*'3.2 Input'!$G40*10^-3","v":0},{"$f":"IF('3.2 Input'!$D40*10^-3<'3.2 Output'!$D36,'3.2 Input'!$D40*10^-3,'3.2 Output'!$D36)","v":0},{"$f":"IF('3.2 Input'!$E40*10^-3<'3.2 Output'!$E36,'3.2 Input'!$E40*10^-3,'3.2 Output'!$E36)","v":0},0,0,{"$f":"'3.2 Input'!$D40*10^-3-'3.2 Output'!$F36","v":2.5350000000000001},{"$f":"'3.2 Input'!$E40*10^-3-'3.2 Output'!$G36","v":1.31}]
[]
[]
[null,"Περίοδος","Ώρα","SOC.summer","E_BT_av.summer (kWh)","E_TBT.summer (kWh)","E_FBT.summer (kWh)","E_und.summer (kWh)","E_aux.summer (kWh)"]
[null,1," 0-1",{"$f":"$E40/'3.2 Input'!$C$10+'3.2 Input'!$C$11","v":0.53750000000000009},{"$f":"('3.2 Input'!$C$8-'3.2 Input'!$C$11)*'3.2 Input'!$C$10+$F40-$G40","v":1.800000000000002},{"$f":"IF($H13<$C$8-('3.2 Input'!$C$8-'3.2 Input'!$C$11)*'3.2 Input'!$C$10,'3.2 Output'!$H13,'3.2 Input'!$C$8-'3.2 Input'!$C$11*'3.2 Input'!$C$10)","v":0},{"$f":"IF($J13<('3.2 Input'!$C$8-'3.2 Input'!$C$11)*'3.2 Input'!$C$10,$J13,('3.2 Input'!$C$8-'3.2 Input'!$C$11)*'3.2 Input'!$C$10)","v":0.6},{"$f":"$H13-$F40","v":0},{"$f":"$J13-$G40","v":0}]
[null,2," 1 - 2",{"$f":"$E41/'3.2 Input'!$C$10+'3.2 Input'!$C$11","v":0.52500000000000013},{"$f":"($D40-'3.2 Input'!$C$11)*'3.2 Input'!$C$10+$F41-$G41","v":1.2000000000000042},{"$f":"IF($H14<$C$8-($D40-'3.2 Input'!$C$11)*'3.2 Input'!$C$10,'3.2 Output'!$H14,$C$8-($D40-'3.2 Input'!$C$11)*'3.2 Input'!$C$10)","v":0},{"$f":"IF($J14<($D40-'3.2 Input'!$C$11)*'3.2 Input'!$C$10,$J14,($D40-'3.2 Input'!$C$11)*'3.2 Input'!$C$10)","v":0.6},{"$f":"$H14-$F41","v":0},{"$f":"$J14-$G41","v":0}]
[null,3," 2 - 3",{"$f":"$E42/'3.2 Input'!$C$10+'3.2 Input'!$C$11","v":0.51250000000000018},{"$f":"($D41-'3.2 Input'!$C$11)*'3.2 Input'!$C$10+$F42-$G42","v":0.60000000000000642},{"$f":"IF($H15<$C$8-($D41-'3.2 Input'!$C$11)*'3.2 Input'!$C$10,'3.2 Output'!$H15,$C$8-($D41-'3.2 Input'!$C$11)*'3.2 Input'!$C$10)","v":0},{"$f":"IF($J15<($D41-'3.2 Input'!$C$11)*'3.2 Input'!$C$10,$J15,($D41-'3.2 Input'!$C$11)*'3.2 Input'!$C$10)","v":0.6},{"$f":"$H15-$F42","v":0},{"$f":"$J15-$G42","v":0}]
[null,4," 3 - 4",{"$f":"$E43/'3.2 Input'!$C$10+'3.2 Input'!$C$11","v":0.50520833333333348},{"$f":"($D42-'3.2 Input'!$C$11)*'3.2 Input'!$C$10+$F43-$G43","v":0.25000000000000849},{"$f":"IF($H16<$C$8-($D42-'3.2 Input'!$C$11)*'3.2 Input'!$C$10,'3.2 Output'!$H16,$C$8-($D42-'3.2 Input'!$C$11)*'3.2 Input'!$C$10)","v":0},{"$f":"IF($J16<($D42-'3.2 Input'!$C$11)*'3.2 Input'!$C$10,$J16,($D42-'3.2 Input'!$C$11)*'3.2 Input'!$C$10)","v":0.35000000000000003},0,0]
[null,5," 4 - 5",{"$f":"$E44/'3.2 Input'!$C$10+'3.2 Input'!$C$11","v":0.5},{"$f":"($D43-'3.2 Input'!$C$11)*'3.2 Input'!$C$10+$F44-$G44","v":0},{"$f":"IF($H17<$C$8-($D43-'3.2 Input'!$C$11)*'3.2 Input'!$C$10,'3.2 Output'!$H17,$C$8-($D43-'3.2 Input'!$C$11)*'3.2 Input'!$C$10)","v":0},{"$f":"IF($J17<($D43-'3.2 Input'!$C$11)*'3.2 Input'!$C$10,$J17,($D43-'3.2 Input'!$C$11)*'3.2 Input'!$C$10)","v":0.25000000000000711},0,9.9999999999992928E-2]
[null,6," 5 - 6 ",{"$f":"$E45/'3.2 Input'!$C$10+'3.2 Input'!$C$11","v":0.5},{"$f":"($D44-'3.2 Input'!$C$11)*'3.2 Input'!$C$10+$F45-$G45","v":0},{"$f":"IF($H18<$C$8-($D44-'3.2 Input'!$C$11)*'3.2 Input'!$C$10,'3.2 Output'!$H18,$C$8-($D44-'3.2 Input'!$C$11)*'3.2 Input'!$C$10)","v":0},{"$f":"IF($J18<($D44-'3.2 Input'!$C$11)*'3.2 Input'!$C$10,$J18,($D44-'3.2 Input'!$C$11)*'3.2 Input'!$C$10)","v":0},0,0.34288551080000002]
[null,7," 6 - 7",{"$f":"$E46/'3.2 Input'!$C$10+'3.2 Input'!$C$11","v":0.50194728805833333},{"$f":"($D45-'3.2 Input'!$C$11)*'3.2 Input'!$C$10+$F46-$G46","v":9.3469826800000044E-2},{"$f":"IF($H19<$C$8-($D45-'3.2 Input'!$C$11)*'3.2 Input'!$C$10,'3.2 Output'!$H19,$C$8-($D45-'3.2 Input'!$C$11)*'3.2 Input'!$C$10)","v":9.3469826800000044E-2},{"$f":"IF($J19<($D45-'3.2 Input'!$C$11)*'3.2 Input'!$C$10,$J19,($D45-'3.2 Input'!$C$11)*'3.2 Input'!$C$10)","v":0},0,0]
[null,8," 7 - 8",{"$f":"$E47/'3.2 Input'!$C$10+'3.2 Input'!$C$11","v":0.52170051404166662},{"$f":"($D46-'3.2 Input'!$C$11)*'3.2 Input'!$C$10+$F47-$G47","v":1.0416246740000001},{"$f":"IF($H20<$C$8-($D46-'3.2 Input'!$C$11)*'3.2 Input'!$C$10,'3.2 Output'!$H20,$C$8-($D46-'3.2 Input'!$C$11)*'3.2 Input'!$C$10)","v":0.94815484720000032},{"$f":"IF($J20<($D46-'3.2 Input'!$C$11)*'3.2 Input'!$C$10,$J20,($D46-'3.2 Input'!$C$11)*'3.2 Input'!$C$10)","v":0},0,0]
[null,9," 8 - 9",{"$f":"$E48/'3.2 Input'!$C$10+'3.2 Input'!$C$11","v":0.5606591138},{"$f":"($D47-'3.2 Input'!$C$11)*'3.2 Input'!$C$10+$F48-$G48","v":2.9116374623999981},{"$f":"IF($H21<$C$8-($D47-'3.2 Input'!$C$11)*'3.2 Input'!$C$10,'3.2 Output'!$H21,$C$8-($D47-'3.2 Input'!$C$11)*'3.2 Input'!$C$10)","v":1.8700127884000004},{"$f":"IF($J21<($D47-'3.2 Input'!$C$11)*'3.2 Input'!$C$10,$J21,($D47-'3.2 Input'!$C$11)*'3.2 Input'!$C$10)","v":0},0,0]
[null,10," 9 - 10",{"$f":"$E49/'3.2 Input'!$C$10+'3.2 Input'!$C$11","v":0.61837930670166663},{"$f":"($D48-'3.2 Input'!$C$11)*'3.2 Input'!$C$10+$F49-$G49","v":5.6822067216800001},{"$f":"IF($H22<$C$8-($D48-'3.2 Input'!$C$11)*'3.2 Input'!$C$10,'3.2 Output'!$H22,$C$8-($D48-'3.2 Input'!$C$11)*'3.2 Input'!$C$10)","v":2.7705692592800002},{"$f":"IF($J22<($D48-'3.2 Input'!$C$11)*'3.2 Input'!$C$10,$J22,($D48-'3.2 Input'!$C$11)*'3.2 Input'!$C$10)","v":0},0,0]
[null,11," 10 - 11",{"$f":"$E50/'3.2 Input'!$C$10+'3.2 Input'!$C$11","v":0.69029883429833327},{"$f":"($D49-'3.2 Input'!$C$11)*'3.2 Input'!$C$10+$F50-$G50","v":9.134344046319999},{"$f":"IF($H23<$C$8-($D49-'3.2 Input'!$C$11)*'3.2 Input'!$C$10,'3.2 Output'!$H23,$C$8-($D49-'3.2 Input'!$C$11)*'3.2 Input'!$C$10)","v":3.4521373246400007},{"$f":"IF($J23<($D49-'3.2 Input'!$C$11)*'3.2 Input'!$C$10,$J23,($D49-'3.2 Input'!$C$11)*'3.2 Input'!$C$10)","v":0},0,0]
[null,12," 11 - 12",{"$f":"$E51/'3.2 Input'!$C$10+'3.2 Input'!$C$11","v":0.74749611116499992},{"$f":"($D50-'3.2 Input'!$C$11)*'3.2 Input'!$C$10+$F51-$G51","v":11.879813335919998},{"$f":"IF($H24<$C$8-($D50-'3.2 Input'!$C$11)*'3.2 Input'!$C$10,'3.2 Output'!$H24,$C$8-($D50-'3.2 Input'!$C$11)*'3.2 Input'!$C$10)","v":2.7454692896000008},{"$f":"IF($J24<($D50-'3.2 Input'!$C$11)*'3.2 Input'!$C$10,$J24,($D50-'3.2 Input'!$C$11)*'3.2 Input'!$C$10)","v":0},0,0]
[null,13," 12 - 13",{"$f":"$E52/'3.2 Input'!$C$10+'3.2 Input'!$C$11","v":0.76346149570499988},{"$f":"($D51-'3.2 Input'!$C$11)*'3.2 Input'!$C$10+$F52-$G52","v":12.646151793839996},{"$f":"IF($H25<$C$8-($D51-'3.2 Input'!$C$11)*'3.2 Input'!$C$10,'3.2 Output'!$H25,$C$8-($D51-'3.2 Input'!$C$11)*'3.2 Input'!$C$10)","v":0.76633845792000033},{"$f":"IF($J25<($D51-'3.2 Input'!$C$11)*'3.2 Input'!$C$10,$J25,($D51-'3.2 Input'!$C$11)*'3.2 Input'!$C$10)","v":0},0,0]
[null,14," 13 - 14",{"$f":"$E53/'3.2 Input'!$C$10+'3.2 Input'!$C$11","v":0.79301186646166655},{"$f":"($D52-'3.2 Input'!$C$11)*'3.2 Input'!$C$10+$F53-$G53","v":14.064569590159994},{"$f":"IF($H26<$C$8-($D52-'3.2 Input'!$C$11)*'3.2 Input'!$C$10,'3.2 Output'!$H26,$C$8-($D52-'3.2 Input'!$C$11)*'3.2 Input'!$C$10)","v":1.4184177963199995},{"$f":"IF($J26<($D52-'3.2 Input'!$C$11)*'3.2 Input'!$C$10,$J26,($D52-'3.2 Input'!$C$11)*'3.2 Input'!$C$10)","v":0},0,0]
[null,15," 14 - 15",{"$f":"$E54/'3.2 Input'!$C$10+'3.2 Input'!$C$11","v":0.81191026588833326},{"$f":"($D53-'3.2 Input'!$C$11)*'3.2 Input'!$C$10+$F54-$G54","v":14.971692762639995},{"$f":"IF($H27<$C$8-($D53-'3.2 Input'!$C$11)*'3.2 Input'!$C$10,'3.2 Output'!$H27,$C$8-($D53-'3.2 Input'!$C$11)*'3.2 Input'!$C$10)","v":0.90712317248000041},{"$f":"IF($J27<($D53-'3.2 Input'!$C$11)*'3.2 Input'!$C$10,$J27,($D53-'3.2 Input'!$C$11)*'3.2 Input'!$C$10)","v":0},0,0]
[null,16," 15 - 16",{"$f":"$E55/'3.2 Input'!$C$10+'3.2 Input'!$C$11","v":0.81009998385999993},{"$f":"($D54-'3.2 Input'!$C$11)*'3.2 Input'!$C$10+$F55-$G55","v":14.884799225279997},{"$f":"IF($H28<$C$8-($D54-'3.2 Input'!$C$11)*'3.2 Input'!$C$10,'3.2 Output'!$H28,$C$8-($D54-'3.2 Input'!$C$11)*'3.2 Input'!$C$10)","v":0},{"$f":"IF($J28<($D54-'3.2 Input'!$C$11)*'3.2 Input'!$C$10,$J28,($D54-'3.2 Input'!$C$11)*'3.2 Input'!$C$10)","v":8.6893537359999939E-2},0,0]
[null,17," 16 - 17",{"$f":"$E56/'3.2 Input'!$C$10+'3.2 Input'!$C$11","v":0.7747908125866666},{"$f":"($D55-'3.2 Input'!$C$11)*'3.2 Input'!$C$10+$F56-$G56","v":13.189959004159997},{"$f":"IF($H29<$C$8-($D55-'3.2 Input'!$C$11)*'3.2 Input'!$C$10,'3.2 Output'!$H29,$C$8-($D55-'3.2 Input'!$C$11)*'3.2 Input'!$C$10)","v":0},{"$f":"IF($J29<($D55-'3.2 Input'!$C$11)*'3.2 Input'!$C$10,$J29,($D55-'3.2 Input'!$C$11)*'3.2 Input'!$C$10)","v":1.6948402211199995},0,0]
[null,18," 17 - 18",{"$f":"$E57/'3.2 Input'!$C$10+'3.2 Input'!$C$11","v":0.69055951375999991},{"$f":"($D56-'3.2 Input'!$C$11)*'3.2 Input'!$C$10+$F57-$G57","v":9.1468566604799975},{"$f":"IF($H30<$C$8-($D56-'3.2 Input'!$C$11)*'3.2 Input'!$C$10,'3.2 Output'!$H30,$C$8-($D56-'3.2 Input'!$C$11)*'3.2 Input'!$C$10)","v":0},{"$f":"IF($J30<($D56-'3.2 Input'!$C$11)*'3.2 Input'!$C$10,$J30,($D56-'3.2 Input'!$C$11)*'3.2 Input'!$C$10)","v":4.0431023436800002},0,0]
[null,19," 18 - 19",{"$f":"$E58/'3.2 Input'!$C$10+'3.2 Input'!$C$11","v":0.61092093491833321},{"$f":"($D57-'3.2 Input'!$C$11)*'3.2 Input'!$C$10+$F58-$G58","v":5.324204876079996},{"$f":"IF($H31<$C$8-($D57-'3.2 Input'!$C$11)*'3.2 Input'!$C$10,'3.2 Output'!$H31,$C$8-($D57-'3.2 Input'!$C$11)*'3.2 Input'!$C$10)","v":0},{"$f":"IF($J31<($D57-'3.2 Input'!$C$11)*'3.2 Input'!$C$10,$J31,($D57-'3.2 Input'!$C$11)*'3.2 Input'!$C$10)","v":3.8226517843999996},0,0]
[null,20," 19 - 20",{"$f":"$E59/'3.2 Input'!$C$10+'3.2 Input'!$C$11","v":0.51175426825166659},{"$f":"($D58-'3.2 Input'!$C$11)*'3.2 Input'!$C$10+$F59-$G59","v":0.56420487607999448},{"$f":"IF($H32<$C$8-($D58-'3.2 Input'!$C$11)*'3.2 Input'!$C$10,'3.2 Output'!$H32,$C$8-($D58-'3.2 Input'!$C$11)*'3.2 Input'!$C$10)","v":0},{"$f":"IF($J32<($D58-'3.2 Input'!$C$11)*'3.2 Input'!$C$10,$J32,($D58-'3.2 Input'!$C$11)*'3.2 Input'!$C$10)","v":4.76},0,0]
[null,21," 20 - 21",{"$f":"$E60/'3.2 Input'!$C$10+'3.2 Input'!$C$11","v":0.5},{"$f":"($D59-'3.2 Input'!$C$11)*'3.2 Input'!$C$10+$F60-$G60","v":0},{"$f":"IF($H33<$C$8-($D59-'3.2 Input'!$C$11)*'3.2 Input'!$C$10,'3.2 Output'!$H33,$C$8-($D59-'3.2 Input'!$C$11)*'3.2 Input'!$C$10)","v":0},{"$f":"IF($J33<($D59-'3.2 Input'!$C$11)*'3.2 Input'!$C$10,$J33,($D59-'3.2 Input'!$C$11)*'3.2 Input'!$C$10)","v":0.56420487607999625},0,2.7207951239200039]
[null,22," 21 - 22",{"$f":"$E61/'3.2 Input'!$C$10+'3.2 Input'!$C$11","v":0.5},{"$f":"($D60-'3.2 Input'!$C$11)*'3.2 Input'!$C$10+$F61-$G61","v":0},{"$f":"IF($H34<$C$8-($D60-'3.2 Input'!$C$11)*'3.2 Input'!$C$10,'3.2 Output'!$H34,$C$8-($D60-'3.2 Input'!$C$11)*'3.2 Input'!$C$10)","v":0},{"$f":"IF($J34<($D60-'3.2 Input'!$C$11)*'3.2 Input'!$C$10,$J34,($D60-'3.2 Input'!$C$11)*'3.2 Input'!$C$10)","v":0},0,1.95]
[null,23," 22 - 23",{"$f":"$E62/'3.2 Input'!$C$10+'3.2 Input'!$C$11","v":0.5},{"$f":"($D61-'3.2 Input'!$C$11)*'3.2 Input'!$C$10+$F62-$G62","v":0},{"$f":"IF($H35<$C$8-($D61-'3.2 Input'!$C$11)*'3.2 Input'!$C$10,'3.2 Output'!$H35,$C$8-($D61-'3.2 Input'!$C$11)*'3.2 Input'!$C$10)","v":0},{"$f":"IF($J35<($D61-'3.2 Input'!$C$11)*'3.2 Input'!$C$10,$J35,($D61-'3.2 Input'!$C$11)*'3.2 Input'!$C$10)","v":0},0,1.95]
[null,24," 23 - 24",{"$f":"$E63/'3.2 Input'!$C$10+'3.2 Input'!$C$11","v":0.5},{"$f":"($D62-'3.2 Input'!$C$11)*'3.2 Input'!$C$10+$F63-$G63","v":0},{"$f":"IF($H36<$C$8-($D62-'3.2 Input'!$C$11)*'3.2 Input'!$C$10,'3.2 Output'!$H36,$C$8-($D62-'3.2 Input'!$C$11)*'3.2 Input'!$C$10)","v":0},{"$f":"IF($J36<($D62-'3.2 Input'!$C$11)*'3.2 Input'!$C$10,$J36,($D62-'3.2 Input'!$C$11)*'3.2 Input'!$C$10)","v":0},0,2.5350000000000001]
[]
[]
[null,"Περίοδος","Ώρα","SOC.winter","E_BT_av.winter (kWh)","E_TBT.winter (kWh)","E_FBT.winter (kWh)","E_und.winter (kWh)","E_aux.winter (kWh)"]
[null,1," 0-1",{"$f":"$E67/'3.2 Input'!$C$10+'3.2 Input'!$C$11","v":0.53958333333333341},{"$f":"('3.2 Input'!$C$8-'3.2 Input'!$C$11)*'3.2 Input'!$C$10+$F67-$G67","v":1.9000000000000021},{"$f":"IF($I13<$C$8-('3.2 Input'!$C$8-'3.2 Input'!$C$11)*'3.2 Input'!$C$10,'3.2 Output'!$I13,'3.2 Input'!$C$8-'3.2 Input'!$C$11*'3.2 Input'!$C$10)","v":0},{"$f":"IF($K13<('3.2 Input'!$C$8-'3.2 Input'!$C$11)*'3.2 Input'!$C$10,$K13,('3.2 Input'!$C$8-'3.2 Input'!$C$11)*'3.2 Input'!$C$10)","v":0.5},{"$f":"$I13-$F67","v":0},{"$f":"$K13-$G67","v":0}]
[null,2," 1 - 2",{"$f":"$E68/'3.2 Input'!$C$10+'3.2 Input'!$C$11","v":0.52916666666666679},{"$f":"('3.2 Output'!$D67-'3.2 Input'!$C$11)*'3.2 Input'!$C$10+$F68-$G68","v":1.4000000000000039},{"$f":"IF($I14<'3.2 Output'!$C$8-('3.2 Output'!$D67-'3.2 Input'!$C$11)*'3.2 Input'!$C$10,$I14,'3.2 Output'!$C$8-('3.2 Output'!$D67-'3.2 Input'!$C$11)*'3.2 Input'!$C$10)","v":0},{"$f":"IF($K14<('3.2 Output'!$D67-'3.2 Input'!$C$11)*'3.2 Input'!$C$10,$K14,('3.2 Output'!$D67-'3.2 Input'!$C$11)*'3.2 Input'!$C$10)","v":0.5},{"$f":"$I14-$F68","v":0},{"$f":"$K14-$G68","v":0}]
[null,3," 2 - 3",{"$f":"$E69/'3.2 Input'!$C$10+'3.2 Input'!$C$11","v":0.52395833333333341},{"$f":"('3.2 Output'!$D68-'3.2 Input'!$C$11)*'3.2 Input'!$C$10+$F69-$G69","v":1.1500000000000057},{"$f":"IF($I15<'3.2 Output'!$C$8-('3.2 Output'!$D68-'3.2 Input'!$C$11)*'3.2 Input'!$C$10,$I15,'3.2 Output'!$C$8-('3.2 Output'!$D68-'3.2 Input'!$C$11)*'3.2 Input'!$C$10)","v":0},{"$f":"IF($K15<('3.2 Output'!$D68-'3.2 Input'!$C$11)*'3.2 Input'!$C$10,$K15,('3.2 Output'!$D68-'3.2 Input'!$C$11)*'3.2 Input'!$C$10)","v":0.25},{"$f":"$I15-$F69","v":0},{"$f":"$K15-$G69","v":0}]
[null,4," 3 - 4",{"$f":"$E70/'3.2 Input'!$C$10+'3.2 Input'!$C$11","v":0.51875000000000004},{"$f":"('3.2 Output'!$D69-'3.2 Input'!$C$11)*'3.2 Input'!$C$10+$F70-$G70","v":0.90000000000000391},{"$f":"IF($I16<'3.2 Output'!$C$8-('3.2 Output'!$D69-'3.2 Input'!$C$11)*'3.2 Input'!$C$10,$I16,'3.2 Output'!$C$8-('3.2 Output'!$D69-'3.2 Input'!$C$11)*'3.2 Input'!$C$10)","v":0},{"$f":"IF($K16<('3.2 Output'!$D69-'3.2 Input'!$C$11)*'3.2 Input'!$C$10,$K16,('3.2 Output'!$D69-'3.2 Input'!$C$11)*'3.2 Input'!$C$10)","v":0.25},0,0]
[null,5," 4 - 5",{"$f":"$E71/'3.2 Input'!$C$10+'3.2 Input'!$C$11","v":0.51354166666666667},{"$f":"('3.2 Output'!$D70-'3.2 Input'!$C$11)*'3.2 Input'!$C$10+$F71-$G71","v":0.65000000000000213},{"$f":"IF($I17<'3.2 Output'!$C$8-('3.2 Output'!$D70-'3.2 Input'!$C$11)*'3.2 Input'!$C$10,$I17,'3.2 Output'!$C$8-('3.2 Output'!$D70-'3.2 Input'!$C$11)*'3.2 Input'!$C$10)","v":0},{"$f":"IF($K17<('3.2 Output'!$D70-'3.2 Input'!$C$11)*'3.2 Input'!$C$10,$K17,('3.2 Output'!$D70-'3.2 Input'!$C$11)*'3.2 Input'!$C$10)","v":0.25},0,0]
[null,6," 5 - 6 ",{"$f":"$E72/'3.2 Input'!$C$10+'3.2 Input'!$C$11","v":0.5083333333333333},{"$f":"('3.2 Output'!$D71-'3.2 Input'!$C$11)*'3.2 Input'!$C$10+$F72-$G72","v":0.40000000000000036},{"$f":"IF($I18<'3.2 Output'!$C$8-('3.2 Output'!$D71-'3.2 Input'!$C$11)*'3.2 Input'!$C$10,$I18,'3.2 Output'!$C$8-('3.2 Output'!$D71-'3.2 Input'!$C$11)*'3.2 Input'!$C$10)","v":0},{"$f":"IF($K18<('3.2 Output'!$D71-'3.2 Input'!$C$11)*'3.2 Input'!$C$10,$K18,('3.2 Output'!$D71-'3.2 Input'!$C$11)*'3.2 Input'!$C$10)","v":0.25},0,0]
[null,7," 6 - 7",{"$f":"$E73/'3.2 Input'!$C$10+'3.2 Input'!$C$11","v":0.50062499999999999},{"$f":"('3.2 Output'!$D72-'3.2 Input'!$C$11)*'3.2 Input'!$C$10+$F73-$G73","v":2.9999999999998583E-2},{"$f":"IF($I19<'3.2 Output'!$C$8-('3.2 Output'!$D72-'3.2 Input'!$C$11)*'3.2 Input'!$C$10,$I19,'3.2 Output'!$C$8-('3.2 Output'!$D72-'3.2 Input'!$C$11)*'3.2 Input'!$C$10)","v":0},{"$f":"IF($K19<('3.2 Output'!$D72-'3.2 Input'!$C$11)*'3.2 Input'!$C$10,$K19,('3.2 Output'!$D72-'3.2 Input'!$C$11)*'3.2 Input'!$C$10)","v":0.37},0,0]
[null,8," 7 - 8",{"$f":"$E74/'3.2 Input'!$C$10+'3.2 Input'!$C$11","v":0.5},{"$f":"('3.2 Output'!$D73-'3.2 Input'!$C$11)*'3.2 Input'!$C$10+$F74-$G74","v":0},{"$f":"IF($I20<'3.2 Output'!$C$8-('3.2 Output'!$D73-'3.2 Input'!$C$11)*'3.2 Input'!$C$10,$I20,'3.2 Output'!$C$8-('3.2 Output'!$D73-'3.2 Input'!$C$11)*'3.2 Input'!$C$10)","v":0},{"$f":"IF($K20<('3.2 Output'!$D73-'3.2 Input'!$C$11)*'3.2 Input'!$C$10,$K20,('3.2 Output'!$D73-'3.2 Input'!$C$11)*'3.2 Input'!$C$10)","v":2.9999999999999361E-2},0,{"$f":"$K20-$G74","v":0.25074660472000065}]
[null,9," 8 - 9",{"$f":"$E75/'3.2 Input'!$C$10+'3.2 Input'!$C$11","v":0.50109067076833336},{"$f":"('3.2 Output'!$D74-'3.2 Input'!$C$11)*'3.2 Input'!$C$10+$F75-$G75","v":5.2352196880000146E-2},{"$f":"IF($I21<'3.2 Output'!$C$8-('3.2 Output'!$D74-'3.2 Input'!$C$11)*'3.2 Input'!$C$10,$I21,'3.2 Output'!$C$8-('3.2 Output'!$D74-'3.2 Input'!$C$11)*'3.2 Input'!$C$10)","v":5.2352196880000146E-2},{"$f":"IF($K21<('3.2 Output'!$D74-'3.2 Input'!$C$11)*'3.2 Input'!$C$10,$K21,('3.2 Output'!$D74-'3.2 Input'!$C$11)*'3.2 Input'!$C$10)","v":0},0,0]
[null,10," 9 - 10",{"$f":"$E76/'3.2 Input'!$C$10+'3.2 Input'!$C$11","v":0.52491560690833339},{"$f":"('3.2 Output'!$D75-'3.2 Input'!$C$11)*'3.2 Input'!$C$10+$F76-$G76","v":1.1959491316000015},{"$f":"IF($I22<'3.2 Output'!$C$8-('3.2 Output'!$D75-'3.2 Input'!$C$11)*'3.2 Input'!$C$10,$I22,'3.2 Output'!$C$8-('3.2 Output'!$D75-'3.2 Input'!$C$11)*'3.2 Input'!$C$10)","v":1.1435969347200003},{"$f":"IF($K22<('3.2 Output'!$D75-'3.2 Input'!$C$11)*'3.2 Input'!$C$10,$K22,('3.2 Output'!$D75-'3.2 Input'!$C$11)*'3.2 Input'!$C$10)","v":0},0,0]
[null,11," 10 - 11",{"$f":"$E77/'3.2 Input'!$C$10+'3.2 Input'!$C$11","v":0.56259808835833336},{"$f":"('3.2 Output'!$D76-'3.2 Input'!$C$11)*'3.2 Input'!$C$10+$F77-$G77","v":3.004708241200003},{"$f":"IF($I23<'3.2 Output'!$C$8-('3.2 Output'!$D76-'3.2 Input'!$C$11)*'3.2 Input'!$C$10,$I23,'3.2 Output'!$C$8-('3.2 Output'!$D76-'3.2 Input'!$C$11)*'3.2 Input'!$C$10)","v":1.8087591096000002},{"$f":"IF($K23<('3.2 Output'!$D76-'3.2 Input'!$C$11)*'3.2 Input'!$C$10,$K23,('3.2 Output'!$D76-'3.2 Input'!$C$11)*'3.2 Input'!$C$10)","v":0},0,0]
[null,12," 11 - 12",{"$f":"$E78/'3.2 Input'!$C$10+'3.2 Input'!$C$11","v":0.60891296872333334},{"$f":"('3.2 Output'!$D77-'3.2 Input'!$C$11)*'3.2 Input'!$C$10+$F78-$G78","v":5.227822498720001},{"$f":"IF($I24<'3.2 Output'!$C$8-('3.2 Output'!$D77-'3.2 Input'!$C$11)*'3.2 Input'!$C$10,$I24,'3.2 Output'!$C$8-('3.2 Output'!$D77-'3.2 Input'!$C$11)*'3.2 Input'!$C$10)","v":2.2231142575199998},{"$f":"IF($K24<('3.2 Output'!$D77-'3.2 Input'!$C$11)*'3.2 Input'!$C$10,$K24,('3.2 Output'!$D77-'3.2 Input'!$C$11)*'3.2 Input'!$C$10)","v":0},0,0]
[null,13," 12 - 13",{"$f":"$E79/'3.2 Input'!$C$10+'3.2 Input'!$C$11","v":0.61673989971166665},{"$f":"('3.2 Output'!$D78-'3.2 Input'!$C$11)*'3.2 Input'!$C$10+$F79-$G79","v":5.603515186160001},{"$f":"IF($I25<'3.2 Output'!$C$8-('3.2 Output'!$D78-'3.2 Input'!$C$11)*'3.2 Input'!$C$10,$I25,'3.2 Output'!$C$8-('3.2 Output'!$D78-'3.2 Input'!$C$11)*'3.2 Input'!$C$10)","v":0.37569268744000039},{"$f":"IF($K25<('3.2 Output'!$D78-'3.2 Input'!$C$11)*'3.2 Input'!$C$10,$K25,('3.2 Output'!$D78-'3.2 Input'!$C$11)*'3.2 Input'!$C$10)","v":0},0,0]
[null,14," 13 - 14",{"$f":"$E80/'3.2 Input'!$C$10+'3.2 Input'!$C$11","v":0.66176667241666665},{"$f":"('3.2 Output'!$D79-'3.2 Input'!$C$11)*'3.2 Input'!$C$10+$F80-$G80","v":7.7648002759999999},{"$f":"IF($I26<'3.2 Output'!$C$8-('3.2 Output'!$D79-'3.2 Input'!$C$11)*'3.2 Input'!$C$10,$I26,'3.2 Output'!$C$8-('3.2 Output'!$D79-'3.2 Input'!$C$11)*'3.2 Input'!$C$10)","v":2.1612850898400007},{"$f":"IF($K26<('3.2 Output'!$D79-'3.2 Input'!$C$11)*'3.2 Input'!$C$10,$K26,('3.2 Output'!$D79-'3.2 Input'!$C$11)*'3.2 Input'!$C$10)","v":0},0,0]
[null,15," 14 - 15",{"$f":"$E81/'3.2 Input'!$C$10+'3.2 Input'!$C$11","v":0.7004775624016667},{"$f":"('3.2 Output'!$D80-'3.2 Input'!$C$11)*'3.2 Input'!$C$10+$F81-$G81","v":9.6229229952799997},{"$f":"IF($I27<'3.2 Output'!$C$8-('3.2 Output'!$D80-'3.2 Input'!$C$11)*'3.2 Input'!$C$10,$I27,'3.2 Output'!$C$8-('3.2 Output'!$D80-'3.2 Input'!$C$11)*'3.2 Input'!$C$10)","v":1.8581227192800001},{"$f":"IF($K27<('3.2 Output'!$D80-'3.2 Input'!$C$11)*'3.2 Input'!$C$10,$K27,('3.2 Output'!$D80-'3.2 Input'!$C$11)*'3.2 Input'!$C$10)","v":0},0,0]
[null,16," 15 - 16",{"$f":"$E82/'3.2 Input'!$C$10+'3.2 Input'!$C$11","v":0.71338950568833337},{"$f":"('3.2 Output'!$D81-'3.2 Input'!$C$11)*'3.2 Input'!$C$10+$F82-$G82","v":10.242696273040002},{"$f":"IF($I28<'3.2 Output'!$C$8-('3.2 Output'!$D81-'3.2 Input'!$C$11)*'3.2 Input'!$C$10,$I28,'3.2 Output'!$C$8-('3.2 Output'!$D81-'3.2 Input'!$C$11)*'3.2 Input'!$C$10)","v":0.61977327776000013},{"$f":"IF($K28<('3.2 Output'!$D81-'3.2 Input'!$C$11)*'3.2 Input'!$C$10,$K28,('3.2 Output'!$D81-'3.2 Input'!$C$11)*'3.2 Input'!$C$10)","v":0},0,0]
[null,17," 16 - 17",{"$f":"$E83/'3.2 Input'!$C$10+'3.2 Input'!$C$11","v":0.69907097222333336},{"$f":"('3.2 Output'!$D82-'3.2 Input'!$C$11)*'3.2 Input'!$C$10+$F83-$G83","v":9.5554066667200015},{"$f":"IF($I29<'3.2 Output'!$C$8-('3.2 Output'!$D82-'3.2 Input'!$C$11)*'3.2 Input'!$C$10,$I29,'3.2 Output'!$C$8-('3.2 Output'!$D82-'3.2 Input'!$C$11)*'3.2 Input'!$C$10)","v":0},{"$f":"IF($K29<('3.2 Output'!$D82-'3.2 Input'!$C$11)*'3.2 Input'!$C$10,$K29,('3.2 Output'!$D82-'3.2 Input'!$C$11)*'3.2 Input'!$C$10)","v":0.68728960631999991},0,0]
[null,18," 17 - 18",{"$f":"$E84/'3.2 Input'!$C$10+'3.2 Input'!$C$11","v":0.64401501416500007},{"$f":"('3.2 Output'!$D83-'3.2 Input'!$C$11)*'3.2 Input'!$C$10+$F84-$G84","v":6.9127206799200014},{"$f":"IF($I30<'3.2 Output'!$C$8-('3.2 Output'!$D83-'3.2 Input'!$C$11)*'3.2 Input'!$C$10,$I30,'3.2 Output'!$C$8-('3.2 Output'!$D83-'3.2 Input'!$C$11)*'3.2 Input'!$C$10)","v":0},{"$f":"IF($K30<('3.2 Output'!$D83-'3.2 Input'!$C$11)*'3.2 Input'!$C$10,$K30,('3.2 Output'!$D83-'3.2 Input'!$C$11)*'3.2 Input'!$C$10)","v":2.6426859868000001},0,0]
[null,19," 18 - 19",{"$f":"$E85/'3.2 Input'!$C$10+'3.2 Input'!$C$11","v":0.58984834749833337},{"$f":"('3.2 Output'!$D84-'3.2 Input'!$C$11)*'3.2 Input'!$C$10+$F85-$G85","v":4.3127206799200035},{"$f":"IF($I31<'3.2 Output'!$C$8-('3.2 Output'!$D84-'3.2 Input'!$C$11)*'3.2 Input'!$C$10,$I31,'3.2 Output'!$C$8-('3.2 Output'!$D84-'3.2 Input'!$C$11)*'3.2 Input'!$C$10)","v":0},{"$f":"IF($K31<('3.2 Output'!$D84-'3.2 Input'!$C$11)*'3.2 Input'!$C$10,$K31,('3.2 Output'!$D84-'3.2 Input'!$C$11)*'3.2 Input'!$C$10)","v":2.6},0,0]
[null,20," 19 - 20",{"$f":"$E86/'3.2 Input'!$C$10+'3.2 Input'!$C$11","v":0.52005668083166667},{"$f":"('3.2 Output'!$D85-'3.2 Input'!$C$11)*'3.2 Input'!$C$10+$F86-$G86","v":0.96272067992000165},{"$f":"IF($I32<'3.2 Output'!$C$8-('3.2 Output'!$D85-'3.2 Input'!$C$11)*'3.2 Input'!$C$10,$I32,'3.2 Output'!$C$8-('3.2 Output'!$D85-'3.2 Input'!$C$11)*'3.2 Input'!$C$10)","v":0},{"$f":"IF($K32<('3.2 Output'!$D85-'3.2 Input'!$C$11)*'3.2 Input'!$C$10,$K32,('3.2 Output'!$D85-'3.2 Input'!$C$11)*'3.2 Input'!$C$10)","v":3.35},0,0]
[null,21," 20 - 21",{"$f":"$E87/'3.2 Input'!$C$10+'3.2 Input'!$C$11","v":0.5},{"$f":"('3.2 Output'!$D86-'3.2 Input'!$C$11)*'3.2 Input'!$C$10+$F87-$G87","v":0},{"$f":"IF($I33<'3.2 Output'!$C$8-('3.2 Output'!$D86-'3.2 Input'!$C$11)*'3.2 Input'!$C$10,$I33,'3.2 Output'!$C$8-('3.2 Output'!$D86-'3.2 Input'!$C$11)*'3.2 Input'!$C$10)","v":0},{"$f":"IF($K33<('3.2 Output'!$D86-'3.2 Input'!$C$11)*'3.2 Input'!$C$10,$K33,('3.2 Output'!$D86-'3.2 Input'!$C$11)*'3.2 Input'!$C$10)","v":0.96272067992000032},0,1.6372793200799998]
[null,22," 21 - 22",{"$f":"$E88/'3.2 Input'!$C$10+'3.2 Input'!$C$11","v":0.5},{"$f":"('3.2 Output'!$D87-'3.2 Input'!$C$11)*'3.2 Input'!$C$10+$F88-$G88","v":0},{"$f":"IF($I34<'3.2 Output'!$C$8-('3.2 Output'!$D87-'3.2 Input'!$C$11)*'3.2 Input'!$C$10,$I34,'3.2 Output'!$C$8-('3.2 Output'!$D87-'3.2 Input'!$C$11)*'3.2 Input'!$C$10)","v":0},{"$f":"IF($K34<('3.2 Output'!$D87-'3.2 Input'!$C$11)*'3.2 Input'!$C$10,$K34,('3.2 Output'!$D87-'3.2 Input'!$C$11)*'3.2 Input'!$C$10)","v":0},0,1.85]
[null,23," 22 - 23",{"$f":"$E89/'3.2 Input'!$C$10+'3.2 Input'!$C$11","v":0.5},{"$f":"('3.2 Output'!$D88-'3.2 Input'!$C$11)*'3.2 Input'!$C$10+$F89-$G89","v":0},{"$f":"IF($I35<'3.2 Output'!$C$8-('3.2 Output'!$D88-'3.2 Input'!$C$11)*'3.2 Input'!$C$10,$I35,'3.2 Output'!$C$8-('3.2 Output'!$D88-'3.2 Input'!$C$11)*'3.2 Input'!$C$10)","v":0},{"$f":"IF($K35<('3.2 Output'!$D88-'3.2 Input'!$C$11)*'3.2 Input'!$C$10,$K35,('3.2 Output'!$D88-'3.2 Input'!$C$11)*'3.2 Input'!$C$10)","v":0},0,1.85]
[null,24," 23 - 24",{"$f":"$E90/'3.2 Input'!$C$10+'3.2 Input'!$C$11","v":0.5},{"$f":"('3.2 Output'!$D89-'3.2 Input'!$C$11)*'3.2 Input'!$C$10+$F90-$G90","v":0},{"$f":"IF($I36<'3.2 Output'!$C$8-('3.2 Output'!$D89-'3.2 Input'!$C$11)*'3.2 Input'!$C$10,$I36,'3.2 Output'!$C$8-('3.2 Output'!$D89-'3.2 Input'!$C$11)*'3.2 Input'!$C$10)","v":0},{"$f":"IF($K36<('3.2 Output'!$D89-'3.2 Input'!$C$11)*'3.2 Input'!$C$10,$K36,('3.2 Output'!$D89-'3.2 Input'!$C$11)*'3.2 Input'!$C$10)","v":0},0,1.31]

{"sheet":"3.3","index":7,"n_rows":32,"n_cols":4,"rows_kept":32,"cut":false,"hidden":false,"merged":[]}
[]
[null,"Εφαρμογή 3.3: Οικονομική ανάλυση αυτόνομου συστήματος"]
[]
[null,"Input"]
[]
[null,"E_tot",11585,"kWh/year"]
[null,"f_pv",0.85]
[null,"n_DSL",0.35]
[null,"IC_panel",360,"euro"]
[null,"IC_st",80,"euro"]
[null,"IC_inv",2750,"euro"]
[null,"IC_CR",210,"euro"]
[null,"IC_BT.cell",430,"euro"]
[null,"C_DSL",1.2,"euro/L"]
[null,"Life",25,"year"]
[null,"L_BT",8,"year"]
[null,"N_PV.cell",38]
[null,"N_BT.cell",24]
[null,"Hu",43.7,"MJ/kg"]
[null,"ρ_DSL",0.83199999999999996,"kg/L"]
[]
[]
[null,"Output"]
[]
[null,"IC_inst",{"$f":"($C$9+$C$10)*$C$17+$C$13*$C$18+$C$12+$C$11","v":30000},"euro"]
[null,"E_aux",{"$f":"(1-$C$7)*$C$6","v":1737.7500000000002},"kWh/year"]
[null,"V_DSL",{"$f":"$C$26/($C$19*0.27778*$C$8*$C$20)","v":491.60185841907031},"L/year"]
[null,"OC_f",{"$f":"C14*$C$27","v":589.92223010288433},"euro"]
[null,"MC",{"$f":"2*$C$13*$C$18","v":20640},"euro"]
[null,"TC_sys",{"$f":"$C$28*$C$15+$C$25+$C$29","v":65388.055752572109},"euro"]
[null,"V_DSL.2",{"$f":"$C$6/($C$19*0.27778*$C$8*$C$20)","v":3277.3457227938015},"L/year"]
[null,"TC_sys.2",{"$f":"$C$14*$C$31*$C$15","v":98320.371683814039},"euro"]